BEGIN:VCALENDAR
VERSION:2.0
PRODID:-//White River Now - Batesville, AR - ECPv5.6.0//NONSGML v1.0//EN
CALSCALE:GREGORIAN
METHOD:PUBLISH
X-WR-CALNAME:White River Now - Batesville, AR
X-ORIGINAL-URL:https://www.whiterivernow.com
X-WR-CALDESC:Events for White River Now - Batesville, AR
BEGIN:VTIMEZONE
TZID:America/Chicago
BEGIN:DAYLIGHT
TZOFFSETFROM:-0600
TZOFFSETTO:-0500
TZNAME:CDT
DTSTART:20260308T080000
END:DAYLIGHT
BEGIN:STANDARD
TZOFFSETFROM:-0500
TZOFFSETTO:-0600
TZNAME:CST
DTSTART:20261101T070000
END:STANDARD
END:VTIMEZONE
BEGIN:VEVENT
DTSTART;TZID=America/Chicago:20260413T173000
DTEND;TZID=America/Chicago:20260413T193000
DTSTAMP:20260422T075341
CREATED:20260311T170132Z
LAST-MODIFIED:20260311T170202Z
UID:130492-1776101400-1776108600@www.whiterivernow.com
SUMMARY:Breast Cancer Support Group
DESCRIPTION:
URL:https://www.whiterivernow.com/event/breast-cance-support-group/2026-04-13/
ATTACH;FMTTYPE=image/jpeg:https://dehayf5mhw1h7.cloudfront.net/wp-content/uploads/sites/1601/2026/03/03100912/screenshot-2026-03-03-100859.jpg
END:VEVENT
END:VCALENDAR