BEGIN:VCALENDAR
VERSION:2.0
PRODID:-//White River Now - Batesville, AR - ECPv5.6.0//NONSGML v1.0//EN
CALSCALE:GREGORIAN
METHOD:PUBLISH
X-WR-CALNAME:White River Now - Batesville, AR
X-ORIGINAL-URL:https://www.whiterivernow.com
X-WR-CALDESC:Events for White River Now - Batesville, AR
BEGIN:VTIMEZONE
TZID:America/Chicago
BEGIN:DAYLIGHT
TZOFFSETFROM:-0600
TZOFFSETTO:-0500
TZNAME:CDT
DTSTART:20260308T080000
END:DAYLIGHT
BEGIN:STANDARD
TZOFFSETFROM:-0500
TZOFFSETTO:-0600
TZNAME:CST
DTSTART:20261101T070000
END:STANDARD
END:VTIMEZONE
BEGIN:VEVENT
DTSTART;TZID=America/Chicago:20260425T090000
DTEND;TZID=America/Chicago:20260425T130000
DTSTAMP:20260420T042204
CREATED:20260413T143944Z
LAST-MODIFIED:20260413T143944Z
UID:131721-1777107600-1777122000@www.whiterivernow.com
SUMMARY:Main Street Batesville Farmers Market
DESCRIPTION:Main Street Batesville Farmers Market \nSaturdays\, April 18-October: 9 am-1 pm \nMaxfield Park\, S Central Ave\, Batesville\, AR\, 72501
URL:https://www.whiterivernow.com/event/main-street-batesville-farmers-market/2026-04-25/
ATTACH;FMTTYPE=image/jpeg:https://dehayf5mhw1h7.cloudfront.net/wp-content/uploads/sites/1601/2026/04/13093921/screenshot-2026-04-13-093705.jpg
END:VEVENT
BEGIN:VEVENT
DTSTART;TZID=America/Chicago:20260502T090000
DTEND;TZID=America/Chicago:20260502T130000
DTSTAMP:20260420T042204
CREATED:20260413T143944Z
LAST-MODIFIED:20260413T143944Z
UID:131722-1777712400-1777726800@www.whiterivernow.com
SUMMARY:Main Street Batesville Farmers Market
DESCRIPTION:Main Street Batesville Farmers Market \nSaturdays\, April 18-October: 9 am-1 pm \nMaxfield Park\, S Central Ave\, Batesville\, AR\, 72501
URL:https://www.whiterivernow.com/event/main-street-batesville-farmers-market/2026-05-02/
ATTACH;FMTTYPE=image/jpeg:https://dehayf5mhw1h7.cloudfront.net/wp-content/uploads/sites/1601/2026/04/13093921/screenshot-2026-04-13-093705.jpg
END:VEVENT
BEGIN:VEVENT
DTSTART;TZID=America/Chicago:20260509T090000
DTEND;TZID=America/Chicago:20260509T130000
DTSTAMP:20260420T042204
CREATED:20260413T143944Z
LAST-MODIFIED:20260413T143944Z
UID:131723-1778317200-1778331600@www.whiterivernow.com
SUMMARY:Main Street Batesville Farmers Market
DESCRIPTION:Main Street Batesville Farmers Market \nSaturdays\, April 18-October: 9 am-1 pm \nMaxfield Park\, S Central Ave\, Batesville\, AR\, 72501
URL:https://www.whiterivernow.com/event/main-street-batesville-farmers-market/2026-05-09/
ATTACH;FMTTYPE=image/jpeg:https://dehayf5mhw1h7.cloudfront.net/wp-content/uploads/sites/1601/2026/04/13093921/screenshot-2026-04-13-093705.jpg
END:VEVENT
BEGIN:VEVENT
DTSTART;TZID=America/Chicago:20260516T090000
DTEND;TZID=America/Chicago:20260516T130000
DTSTAMP:20260420T042204
CREATED:20260413T143944Z
LAST-MODIFIED:20260413T143944Z
UID:131724-1778922000-1778936400@www.whiterivernow.com
SUMMARY:Main Street Batesville Farmers Market
DESCRIPTION:Main Street Batesville Farmers Market \nSaturdays\, April 18-October: 9 am-1 pm \nMaxfield Park\, S Central Ave\, Batesville\, AR\, 72501
URL:https://www.whiterivernow.com/event/main-street-batesville-farmers-market/2026-05-16/
ATTACH;FMTTYPE=image/jpeg:https://dehayf5mhw1h7.cloudfront.net/wp-content/uploads/sites/1601/2026/04/13093921/screenshot-2026-04-13-093705.jpg
END:VEVENT
BEGIN:VEVENT
DTSTART;TZID=America/Chicago:20260523T090000
DTEND;TZID=America/Chicago:20260523T130000
DTSTAMP:20260420T042204
CREATED:20260413T143944Z
LAST-MODIFIED:20260413T143944Z
UID:131725-1779526800-1779541200@www.whiterivernow.com
SUMMARY:Main Street Batesville Farmers Market
DESCRIPTION:Main Street Batesville Farmers Market \nSaturdays\, April 18-October: 9 am-1 pm \nMaxfield Park\, S Central Ave\, Batesville\, AR\, 72501
URL:https://www.whiterivernow.com/event/main-street-batesville-farmers-market/2026-05-23/
ATTACH;FMTTYPE=image/jpeg:https://dehayf5mhw1h7.cloudfront.net/wp-content/uploads/sites/1601/2026/04/13093921/screenshot-2026-04-13-093705.jpg
END:VEVENT
BEGIN:VEVENT
DTSTART;TZID=America/Chicago:20260530T090000
DTEND;TZID=America/Chicago:20260530T130000
DTSTAMP:20260420T042204
CREATED:20260413T143944Z
LAST-MODIFIED:20260413T143944Z
UID:131726-1780131600-1780146000@www.whiterivernow.com
SUMMARY:Main Street Batesville Farmers Market
DESCRIPTION:Main Street Batesville Farmers Market \nSaturdays\, April 18-October: 9 am-1 pm \nMaxfield Park\, S Central Ave\, Batesville\, AR\, 72501
URL:https://www.whiterivernow.com/event/main-street-batesville-farmers-market/2026-05-30/
ATTACH;FMTTYPE=image/jpeg:https://dehayf5mhw1h7.cloudfront.net/wp-content/uploads/sites/1601/2026/04/13093921/screenshot-2026-04-13-093705.jpg
END:VEVENT
BEGIN:VEVENT
DTSTART;TZID=America/Chicago:20260606T090000
DTEND;TZID=America/Chicago:20260606T130000
DTSTAMP:20260420T042204
CREATED:20260413T143944Z
LAST-MODIFIED:20260413T143944Z
UID:131727-1780736400-1780750800@www.whiterivernow.com
SUMMARY:Main Street Batesville Farmers Market
DESCRIPTION:Main Street Batesville Farmers Market \nSaturdays\, April 18-October: 9 am-1 pm \nMaxfield Park\, S Central Ave\, Batesville\, AR\, 72501
URL:https://www.whiterivernow.com/event/main-street-batesville-farmers-market/2026-06-06/
ATTACH;FMTTYPE=image/jpeg:https://dehayf5mhw1h7.cloudfront.net/wp-content/uploads/sites/1601/2026/04/13093921/screenshot-2026-04-13-093705.jpg
END:VEVENT
BEGIN:VEVENT
DTSTART;TZID=America/Chicago:20260613T090000
DTEND;TZID=America/Chicago:20260613T130000
DTSTAMP:20260420T042204
CREATED:20260413T143944Z
LAST-MODIFIED:20260413T143944Z
UID:131728-1781341200-1781355600@www.whiterivernow.com
SUMMARY:Main Street Batesville Farmers Market
DESCRIPTION:Main Street Batesville Farmers Market \nSaturdays\, April 18-October: 9 am-1 pm \nMaxfield Park\, S Central Ave\, Batesville\, AR\, 72501
URL:https://www.whiterivernow.com/event/main-street-batesville-farmers-market/2026-06-13/
ATTACH;FMTTYPE=image/jpeg:https://dehayf5mhw1h7.cloudfront.net/wp-content/uploads/sites/1601/2026/04/13093921/screenshot-2026-04-13-093705.jpg
END:VEVENT
BEGIN:VEVENT
DTSTART;TZID=America/Chicago:20260620T090000
DTEND;TZID=America/Chicago:20260620T130000
DTSTAMP:20260420T042204
CREATED:20260413T143944Z
LAST-MODIFIED:20260413T143944Z
UID:131729-1781946000-1781960400@www.whiterivernow.com
SUMMARY:Main Street Batesville Farmers Market
DESCRIPTION:Main Street Batesville Farmers Market \nSaturdays\, April 18-October: 9 am-1 pm \nMaxfield Park\, S Central Ave\, Batesville\, AR\, 72501
URL:https://www.whiterivernow.com/event/main-street-batesville-farmers-market/2026-06-20/
ATTACH;FMTTYPE=image/jpeg:https://dehayf5mhw1h7.cloudfront.net/wp-content/uploads/sites/1601/2026/04/13093921/screenshot-2026-04-13-093705.jpg
END:VEVENT
BEGIN:VEVENT
DTSTART;TZID=America/Chicago:20260627T090000
DTEND;TZID=America/Chicago:20260627T130000
DTSTAMP:20260420T042204
CREATED:20260413T143944Z
LAST-MODIFIED:20260413T143944Z
UID:131730-1782550800-1782565200@www.whiterivernow.com
SUMMARY:Main Street Batesville Farmers Market
DESCRIPTION:Main Street Batesville Farmers Market \nSaturdays\, April 18-October: 9 am-1 pm \nMaxfield Park\, S Central Ave\, Batesville\, AR\, 72501
URL:https://www.whiterivernow.com/event/main-street-batesville-farmers-market/2026-06-27/
ATTACH;FMTTYPE=image/jpeg:https://dehayf5mhw1h7.cloudfront.net/wp-content/uploads/sites/1601/2026/04/13093921/screenshot-2026-04-13-093705.jpg
END:VEVENT
END:VCALENDAR